BEGIN:VCALENDAR
VERSION:2.0
PRODID:-//hacksw/handcal//NONSGML v1.0//EN
BEGIN:VEVENT
SUMMARY:Resultats definitifs poules B, C et D championnat veterans categorie libre (et trois bandes)
UID:a41efb34-44f4-4ae5-ab47-b873943467ac
DTSTART:20260319T230000Z
DTEND:20260630T220000Z
LOCATION:Localisation   
CATEGORIES:Sportif
STATUS:
DESCRIPTION:<h4>Resultat Poule
 B</h4>
 
 <table>
 	<thead>
 		<tr>
 			<th>classt</th>
 			<th>Nom_equipe</th>
 			<th>pt
 rencontre</th>
 			<th>pts match</th>
 			<th>nb
 match</th>
 		</tr>
 	</thead>
 	<tbody>
 		<tr>
 			<td>1</td>
 			<td>CHOLET
 CHAUD LES
 BILLES</td>
 			<td>59</td>
 			<td>182</td>
 			<td>18</td>
 		</tr>
 		<tr>
 			<td>2</td>
 			<td>NANTES
 NBC
 ZOLA</td>
 			<td>51</td>
 			<td>170</td>
 			<td>18</td>
 		</tr>
 		<tr>
 			<td>3</td>
 			<td>SAINT
 GILLES
 BABORD</td>
 			<td>49</td>
 			<td>158</td>
 			<td>18</td>
 		</tr>
 		<tr>
 			<td>4</td>
 			<td>CHALLANS
 BOCAGE</td>
 			<td>48</td>
 			<td>165</td>
 			<td>18</td>
 		</tr>
 		<tr>
 			<td>5</td>
 			<td>LA
 BAULE
 CASINO</td>
 			<td>48</td>
 			<td>144</td>
 			<td>18</td>
 		</tr>
 		<tr>
 			<td>6</td>
 			<td>REZE
 RETRO</td>
 			<td>42</td>
 			<td>140</td>
 			<td>18</td>
 		</tr>
 		<tr>
 			<td>7</td>
 			<td>LA
 CHAPELLE HEULIN
 COTEAUX</td>
 			<td>41</td>
 			<td>144</td>
 			<td>18</td>
 		</tr>
 		<tr>
 			<td>8</td>
 			<td>SAINT
 SEBASTIEN
 LOIRE</td>
 			<td>37</td>
 			<td>118</td>
 			<td>18</td>
 		</tr>
 		<tr>
 			<td>9</td>
 			<td>SAINTE
 PAZANNE LE
 TENU</td>
 			<td>34</td>
 			<td>125</td>
 			<td>18</td>
 		</tr>
 		<tr>
 			<td>10</td>
 			<td>BOUGUENAIS
 BELIANS</td>
 			<td>25</td>
 			<td>100</td>
 			<td>18</td>
 		</tr>
 	</tbody>
 </table>
 
 <p>Le
 mot du Capitaine de l'equipe Babord:</p>
 
 <p>3B: Troisieme de notre
 poule, nous sommes a egalite de points avec les deux premiers la
 difference se fait au niveau des coefficients (Saint Gilles tribord
 termine 4eme de notre poule).Libre: Suite a la victoire de Nantes
 Zola contre Bouguenais nous retrogradons a la troisieme place un
 grand bravo a vous tous pour cette excellente
 saison.</p>
 
 <p>Claude.</p>
 
 <h4>Resultat Poule
 C</h4>
 
 <table>
 	<thead>
 		<tr>
 			<th>classt</th>
 			<th>Nom_equipe</th>
 			<th>pt
 rencontre</th>
 			<th>pts match</th>
 			<th>nb
 match</th>
 		</tr>
 	</thead>
 	<tbody>
 		<tr>
 			<td>1</td>
 			<td>LA
 BAULE
 PLAGE</td>
 			<td>52</td>
 			<td>165</td>
 			<td>18</td>
 		</tr>
 		<tr>
 			<td>2</td>
 			<td>CHEMERE</td>
 			<td>50</td>
 			<td>156</td>
 			<td>17</td>
 		</tr>
 		<tr>
 			<td>3</td>
 			<td>LA
 MONTAGNE
 BAC</td>
 			<td>48</td>
 			<td>149</td>
 			<td>18</td>
 		</tr>
 		<tr>
 			<td>4</td>
 			<td>LA
 BERNERIE</td>
 			<td>44</td>
 			<td>142</td>
 			<td>18</td>
 		</tr>
 		<tr>
 			<td>5</td>
 			<td>SAINT
 BREVIN</td>
 			<td>43</td>
 			<td>153</td>
 			<td>18</td>
 		</tr>
 		<tr>
 			<td>6</td>
 			<td>LA
 MONTAGNE
 TRANSFO</td>
 			<td>41</td>
 			<td>141</td>
 			<td>18</td>
 		</tr>
 		<tr>
 			<td>7</td>
 			<td>CHATEAU
 THEBAUD
 VIGNOBLE</td>
 			<td>41</td>
 			<td>140</td>
 			<td>18</td>
 		</tr>
 		<tr>
 			<td>8</td>
 			<td>LES
 SABLES
 MER</td>
 			<td>41</td>
 			<td>133</td>
 			<td>17</td>
 		</tr>
 		<tr>
 			<td>9</td>
 			<td>SAINT
 GILLES
 MOUSSE</td>
 			<td>39</td>
 			<td>137</td>
 			<td>18</td>
 		</tr>
 		<tr>
 			<td>10</td>
 			<td>SAINTE
 PAZANNE LES
 FRAICHES</td>
 			<td>25</td>
 			<td>108</td>
 			<td>18</td>
 		</tr>
 	</tbody>
 </table>
 
 <h4>Resultat
 Poule
 D</h4>
 
 <table>
 	<thead>
 		<tr>
 			<th>classt</th>
 			<th>Nom_equipe</th>
 			<th>pt
 rencontre</th>
 			<th>pts match</th>
 			<th>nb
 match</th>
 		</tr>
 	</thead>
 	<tbody>
 		<tr>
 			<td>1</td>
 			<td>SAINTE
 PAZANNE LA
 GARE</td>
 			<td>51</td>
 			<td>151</td>
 			<td>16</td>
 		</tr>
 		<tr>
 			<td>2</td>
 			<td>LES
 SABLES
 FORET</td>
 			<td>45</td>
 			<td>144</td>
 			<td>16</td>
 		</tr>
 		<tr>
 			<td>3</td>
 			<td>CHALLANS
 MARAIS</td>
 			<td>42</td>
 			<td>155</td>
 			<td>16</td>
 		</tr>
 		<tr>
 			<td>4</td>
 			<td>LA
 ROCHE SUR YON
 MONTREAL</td>
 			<td>38</td>
 			<td>131</td>
 			<td>16</td>
 		</tr>
 		<tr>
 			<td>5</td>
 			<td>CHATEAU
 THEBAUD PORTE
 VUE</td>
 			<td>37</td>
 			<td>110</td>
 			<td>16</td>
 		</tr>
 		<tr>
 			<td>6</td>
 			<td>MONTAIGU
 DIGUE</td>
 			<td>34</td>
 			<td>127</td>
 			<td>16</td>
 		</tr>
 		<tr>
 			<td>7</td>
 			<td>SAINT
 GILLES
 TRIBORD</td>
 			<td>34</td>
 			<td>120</td>
 			<td>16</td>
 		</tr>
 		<tr>
 			<td>8</td>
 			<td>LES
 ESSARTS</td>
 			<td>33</td>
 			<td>120</td>
 			<td>16</td>
 		</tr>
 		<tr>
 			<td>9</td>
 			<td>LES
 SABLES
 DUNES</td>
 			<td>27</td>
 			<td>94</td>
 			<td>16</td>
 		</tr>
 	</tbody>
 </table>
 
 <p> </p>
 
 <p> </p>
URL;VALUE=URI:https://www.billardclubdelavie.com/evenements/2026/03/20/resultats-definitifs-poules-b-c-et-d-championnat-veterans-categorie-libre-et-trois-bandes-2433465
END:VEVENT
END:VCALENDAR
